BEGIN:VCALENDAR
VERSION:2.0
PRODID:-//eventon.com NONSGML v1.0//EN
CALSCALE:GREGORIAN
METHOD:PUBLISH
BEGIN:VEVENT
UID:69e7ac394609a
DTSTAMP:20260421T165625Z
DTSTART:20240926T200000Z
DTEND:20240926T230000Z
LOCATION:
SUMMARY:Title One Family STEAM Night
DESCRIPTION:Title One Family STEAM Night\nhttps://bes.bardstown.kyschools.u
 s/events/title-one-family-steam-night/
URL:https://bes.bardstown.kyschools.us/events/title-one-family-steam-night/
END:VEVENT
END:VCALENDAR